BEGIN:VCALENDAR
VERSION:2.0
PRODID:-//Ceol Irish Pub - ECPv6.15.17//NONSGML v1.0//EN
CALSCALE:GREGORIAN
METHOD:PUBLISH
X-ORIGINAL-URL:https://www.ceolirishpub.com
X-WR-CALDESC:Events for Ceol Irish Pub
REFRESH-INTERVAL;VALUE=DURATION:PT1H
X-Robots-Tag:noindex
X-PUBLISHED-TTL:PT1H
BEGIN:VTIMEZONE
TZID:Asia/Karachi
BEGIN:STANDARD
TZOFFSETFROM:+0500
TZOFFSETTO:+0500
TZNAME:PKT
DTSTART:20250101T000000
END:STANDARD
END:VTIMEZONE
BEGIN:VEVENT
DTSTART;VALUE=DATE:20260701
DTEND;VALUE=DATE:20260702
DTSTAMP:20260419T181032
CREATED:20210508T051122Z
LAST-MODIFIED:20210508T051122Z
UID:9981-1782864000-1782950399@www.ceolirishpub.com
SUMMARY:Whiskey Wednesdays
DESCRIPTION:$2 Off All Whiskey\, All Evening.
URL:https://www.ceolirishpub.com/event/whiskey-wednesdays-2026-07-01/
LOCATION:Ceol Irish Pub\, 410 California Ave\, Reno\, NV\, 89509\, United States
CATEGORIES:Ceol
ORGANIZER;CN="Ron McCarty":MAILTO:info@ceolirishpub.com
END:VEVENT
BEGIN:VEVENT
DTSTART;VALUE=DATE:20260708
DTEND;VALUE=DATE:20260709
DTSTAMP:20260419T181032
CREATED:20210508T051122Z
LAST-MODIFIED:20210508T051122Z
UID:9982-1783468800-1783555199@www.ceolirishpub.com
SUMMARY:Whiskey Wednesdays
DESCRIPTION:$2 Off All Whiskey\, All Evening.
URL:https://www.ceolirishpub.com/event/whiskey-wednesdays-2026-07-08/
LOCATION:Ceol Irish Pub\, 410 California Ave\, Reno\, NV\, 89509\, United States
CATEGORIES:Ceol
ORGANIZER;CN="Ron McCarty":MAILTO:info@ceolirishpub.com
END:VEVENT
BEGIN:VEVENT
DTSTART;VALUE=DATE:20260715
DTEND;VALUE=DATE:20260716
DTSTAMP:20260419T181032
CREATED:20210508T051122Z
LAST-MODIFIED:20210508T051122Z
UID:9983-1784073600-1784159999@www.ceolirishpub.com
SUMMARY:Whiskey Wednesdays
DESCRIPTION:$2 Off All Whiskey\, All Evening.
URL:https://www.ceolirishpub.com/event/whiskey-wednesdays-2026-07-15/
LOCATION:Ceol Irish Pub\, 410 California Ave\, Reno\, NV\, 89509\, United States
CATEGORIES:Ceol
ORGANIZER;CN="Ron McCarty":MAILTO:info@ceolirishpub.com
END:VEVENT
BEGIN:VEVENT
DTSTART;VALUE=DATE:20260722
DTEND;VALUE=DATE:20260723
DTSTAMP:20260419T181032
CREATED:20210508T051122Z
LAST-MODIFIED:20210508T051122Z
UID:10132-1784678400-1784764799@www.ceolirishpub.com
SUMMARY:Whiskey Wednesdays
DESCRIPTION:$2 Off All Whiskey\, All Evening.
URL:https://www.ceolirishpub.com/event/whiskey-wednesdays-2026-07-22/
LOCATION:Ceol Irish Pub\, 410 California Ave\, Reno\, NV\, 89509\, United States
CATEGORIES:Ceol
ORGANIZER;CN="Ron McCarty":MAILTO:info@ceolirishpub.com
END:VEVENT
BEGIN:VEVENT
DTSTART;VALUE=DATE:20260729
DTEND;VALUE=DATE:20260730
DTSTAMP:20260419T181032
CREATED:20210508T051122Z
LAST-MODIFIED:20210508T051122Z
UID:10142-1785283200-1785369599@www.ceolirishpub.com
SUMMARY:Whiskey Wednesdays
DESCRIPTION:$2 Off All Whiskey\, All Evening.
URL:https://www.ceolirishpub.com/event/whiskey-wednesdays-2026-07-29/
LOCATION:Ceol Irish Pub\, 410 California Ave\, Reno\, NV\, 89509\, United States
CATEGORIES:Ceol
ORGANIZER;CN="Ron McCarty":MAILTO:info@ceolirishpub.com
END:VEVENT
END:VCALENDAR