BEGIN:VCALENDAR
VERSION:2.0
PRODID:-//Ceol Irish Pub - ECPv6.15.17//NONSGML v1.0//EN
CALSCALE:GREGORIAN
METHOD:PUBLISH
X-ORIGINAL-URL:https://www.ceolirishpub.com
X-WR-CALDESC:Events for Ceol Irish Pub
REFRESH-INTERVAL;VALUE=DURATION:PT1H
X-Robots-Tag:noindex
X-PUBLISHED-TTL:PT1H
BEGIN:VTIMEZONE
TZID:Asia/Karachi
BEGIN:STANDARD
TZOFFSETFROM:+0500
TZOFFSETTO:+0500
TZNAME:PKT
DTSTART:20240101T000000
END:STANDARD
END:VTIMEZONE
BEGIN:VEVENT
DTSTART;TZID=Asia/Karachi:20250902T160000
DTEND;TZID=Asia/Karachi:20250902T180000
DTSTAMP:20260421T070357
CREATED:20210507T111436Z
LAST-MODIFIED:20210507T111436Z
UID:10037-1756828800-1756836000@www.ceolirishpub.com
SUMMARY:Happy Hour!
DESCRIPTION:$5 Premium Pints\, Well Drinks\, and Wine. $6 Traditional Irish Coffee
URL:https://www.ceolirishpub.com/event/happy-hour-2025-09-02/
LOCATION:Ceol Irish Pub\, 410 California Ave\, Reno\, NV\, 89509\, United States
CATEGORIES:Ceol
ORGANIZER;CN="Ron McCarty":MAILTO:info@ceolirishpub.com
END:VEVENT
BEGIN:VEVENT
DTSTART;TZID=Asia/Karachi:20250903T160000
DTEND;TZID=Asia/Karachi:20250903T180000
DTSTAMP:20260421T070357
CREATED:20210507T111436Z
LAST-MODIFIED:20210507T111436Z
UID:10038-1756915200-1756922400@www.ceolirishpub.com
SUMMARY:Happy Hour!
DESCRIPTION:$5 Premium Pints\, Well Drinks\, and Wine. $6 Traditional Irish Coffee
URL:https://www.ceolirishpub.com/event/happy-hour-2025-09-03/
LOCATION:Ceol Irish Pub\, 410 California Ave\, Reno\, NV\, 89509\, United States
CATEGORIES:Ceol
ORGANIZER;CN="Ron McCarty":MAILTO:info@ceolirishpub.com
END:VEVENT
BEGIN:VEVENT
DTSTART;TZID=Asia/Karachi:20250904T160000
DTEND;TZID=Asia/Karachi:20250904T180000
DTSTAMP:20260421T070357
CREATED:20210507T111436Z
LAST-MODIFIED:20210507T111436Z
UID:10039-1757001600-1757008800@www.ceolirishpub.com
SUMMARY:Happy Hour!
DESCRIPTION:$5 Premium Pints\, Well Drinks\, and Wine. $6 Traditional Irish Coffee
URL:https://www.ceolirishpub.com/event/happy-hour-2025-09-04/
LOCATION:Ceol Irish Pub\, 410 California Ave\, Reno\, NV\, 89509\, United States
CATEGORIES:Ceol
ORGANIZER;CN="Ron McCarty":MAILTO:info@ceolirishpub.com
END:VEVENT
BEGIN:VEVENT
DTSTART;TZID=Asia/Karachi:20250905T160000
DTEND;TZID=Asia/Karachi:20250905T180000
DTSTAMP:20260421T070357
CREATED:20210507T111436Z
LAST-MODIFIED:20210507T111436Z
UID:10040-1757088000-1757095200@www.ceolirishpub.com
SUMMARY:Happy Hour!
DESCRIPTION:$5 Premium Pints\, Well Drinks\, and Wine. $6 Traditional Irish Coffee
URL:https://www.ceolirishpub.com/event/happy-hour-2025-09-05/
LOCATION:Ceol Irish Pub\, 410 California Ave\, Reno\, NV\, 89509\, United States
CATEGORIES:Ceol
ORGANIZER;CN="Ron McCarty":MAILTO:info@ceolirishpub.com
END:VEVENT
BEGIN:VEVENT
DTSTART;TZID=Asia/Karachi:20250906T160000
DTEND;TZID=Asia/Karachi:20250906T180000
DTSTAMP:20260421T070357
CREATED:20210507T111436Z
LAST-MODIFIED:20210507T111436Z
UID:10041-1757174400-1757181600@www.ceolirishpub.com
SUMMARY:Happy Hour!
DESCRIPTION:$5 Premium Pints\, Well Drinks\, and Wine. $6 Traditional Irish Coffee
URL:https://www.ceolirishpub.com/event/happy-hour-2025-09-06/
LOCATION:Ceol Irish Pub\, 410 California Ave\, Reno\, NV\, 89509\, United States
CATEGORIES:Ceol
ORGANIZER;CN="Ron McCarty":MAILTO:info@ceolirishpub.com
END:VEVENT
BEGIN:VEVENT
DTSTART;TZID=Asia/Karachi:20250909T160000
DTEND;TZID=Asia/Karachi:20250909T180000
DTSTAMP:20260421T070357
CREATED:20210507T111436Z
LAST-MODIFIED:20210507T111436Z
UID:10042-1757433600-1757440800@www.ceolirishpub.com
SUMMARY:Happy Hour!
DESCRIPTION:$5 Premium Pints\, Well Drinks\, and Wine. $6 Traditional Irish Coffee
URL:https://www.ceolirishpub.com/event/happy-hour-2025-09-09/
LOCATION:Ceol Irish Pub\, 410 California Ave\, Reno\, NV\, 89509\, United States
CATEGORIES:Ceol
ORGANIZER;CN="Ron McCarty":MAILTO:info@ceolirishpub.com
END:VEVENT
BEGIN:VEVENT
DTSTART;TZID=Asia/Karachi:20250910T160000
DTEND;TZID=Asia/Karachi:20250910T180000
DTSTAMP:20260421T070357
CREATED:20210507T111436Z
LAST-MODIFIED:20210507T111436Z
UID:10043-1757520000-1757527200@www.ceolirishpub.com
SUMMARY:Happy Hour!
DESCRIPTION:$5 Premium Pints\, Well Drinks\, and Wine. $6 Traditional Irish Coffee
URL:https://www.ceolirishpub.com/event/happy-hour-2025-09-10/
LOCATION:Ceol Irish Pub\, 410 California Ave\, Reno\, NV\, 89509\, United States
CATEGORIES:Ceol
ORGANIZER;CN="Ron McCarty":MAILTO:info@ceolirishpub.com
END:VEVENT
BEGIN:VEVENT
DTSTART;TZID=Asia/Karachi:20250911T160000
DTEND;TZID=Asia/Karachi:20250911T180000
DTSTAMP:20260421T070357
CREATED:20210507T111436Z
LAST-MODIFIED:20210507T111436Z
UID:10044-1757606400-1757613600@www.ceolirishpub.com
SUMMARY:Happy Hour!
DESCRIPTION:$5 Premium Pints\, Well Drinks\, and Wine. $6 Traditional Irish Coffee
URL:https://www.ceolirishpub.com/event/happy-hour-2025-09-11/
LOCATION:Ceol Irish Pub\, 410 California Ave\, Reno\, NV\, 89509\, United States
CATEGORIES:Ceol
ORGANIZER;CN="Ron McCarty":MAILTO:info@ceolirishpub.com
END:VEVENT
BEGIN:VEVENT
DTSTART;TZID=Asia/Karachi:20250912T160000
DTEND;TZID=Asia/Karachi:20250912T180000
DTSTAMP:20260421T070357
CREATED:20210507T111436Z
LAST-MODIFIED:20210507T111436Z
UID:10045-1757692800-1757700000@www.ceolirishpub.com
SUMMARY:Happy Hour!
DESCRIPTION:$5 Premium Pints\, Well Drinks\, and Wine. $6 Traditional Irish Coffee
URL:https://www.ceolirishpub.com/event/happy-hour-2025-09-12/
LOCATION:Ceol Irish Pub\, 410 California Ave\, Reno\, NV\, 89509\, United States
CATEGORIES:Ceol
ORGANIZER;CN="Ron McCarty":MAILTO:info@ceolirishpub.com
END:VEVENT
BEGIN:VEVENT
DTSTART;TZID=Asia/Karachi:20250913T160000
DTEND;TZID=Asia/Karachi:20250913T180000
DTSTAMP:20260421T070357
CREATED:20210507T111436Z
LAST-MODIFIED:20210507T111436Z
UID:10046-1757779200-1757786400@www.ceolirishpub.com
SUMMARY:Happy Hour!
DESCRIPTION:$5 Premium Pints\, Well Drinks\, and Wine. $6 Traditional Irish Coffee
URL:https://www.ceolirishpub.com/event/happy-hour-2025-09-13/
LOCATION:Ceol Irish Pub\, 410 California Ave\, Reno\, NV\, 89509\, United States
CATEGORIES:Ceol
ORGANIZER;CN="Ron McCarty":MAILTO:info@ceolirishpub.com
END:VEVENT
BEGIN:VEVENT
DTSTART;TZID=Asia/Karachi:20250916T160000
DTEND;TZID=Asia/Karachi:20250916T180000
DTSTAMP:20260421T070357
CREATED:20210507T111436Z
LAST-MODIFIED:20250912T155252Z
UID:10047-1758038400-1758045600@www.ceolirishpub.com
SUMMARY:Happy Hour!
DESCRIPTION:$5 Premium Pints\, Well Drinks\, and Wine. $6 Traditional Irish Coffee
URL:https://www.ceolirishpub.com/event/happy-hour-2025-09-16/
LOCATION:Ceol Irish Pub\, 410 California Ave\, Reno\, NV\, 89509\, United States
CATEGORIES:Ceol
ORGANIZER;CN="Ron McCarty":MAILTO:info@ceolirishpub.com
END:VEVENT
BEGIN:VEVENT
DTSTART;TZID=Asia/Karachi:20250917T160000
DTEND;TZID=Asia/Karachi:20250917T180000
DTSTAMP:20260421T070357
CREATED:20210507T111436Z
LAST-MODIFIED:20210507T111436Z
UID:10048-1758124800-1758132000@www.ceolirishpub.com
SUMMARY:Happy Hour!
DESCRIPTION:$5 Premium Pints\, Well Drinks\, and Wine. $6 Traditional Irish Coffee
URL:https://www.ceolirishpub.com/event/happy-hour-2025-09-17/
LOCATION:Ceol Irish Pub\, 410 California Ave\, Reno\, NV\, 89509\, United States
CATEGORIES:Ceol
ORGANIZER;CN="Ron McCarty":MAILTO:info@ceolirishpub.com
END:VEVENT
BEGIN:VEVENT
DTSTART;TZID=Asia/Karachi:20250918T160000
DTEND;TZID=Asia/Karachi:20250918T180000
DTSTAMP:20260421T070357
CREATED:20210507T111436Z
LAST-MODIFIED:20210507T111436Z
UID:10049-1758211200-1758218400@www.ceolirishpub.com
SUMMARY:Happy Hour!
DESCRIPTION:$5 Premium Pints\, Well Drinks\, and Wine. $6 Traditional Irish Coffee
URL:https://www.ceolirishpub.com/event/happy-hour-2025-09-18/
LOCATION:Ceol Irish Pub\, 410 California Ave\, Reno\, NV\, 89509\, United States
CATEGORIES:Ceol
ORGANIZER;CN="Ron McCarty":MAILTO:info@ceolirishpub.com
END:VEVENT
BEGIN:VEVENT
DTSTART;TZID=Asia/Karachi:20250919T160000
DTEND;TZID=Asia/Karachi:20250919T180000
DTSTAMP:20260421T070357
CREATED:20210507T111436Z
LAST-MODIFIED:20210507T111436Z
UID:10050-1758297600-1758304800@www.ceolirishpub.com
SUMMARY:Happy Hour!
DESCRIPTION:$5 Premium Pints\, Well Drinks\, and Wine. $6 Traditional Irish Coffee
URL:https://www.ceolirishpub.com/event/happy-hour-2025-09-19/
LOCATION:Ceol Irish Pub\, 410 California Ave\, Reno\, NV\, 89509\, United States
CATEGORIES:Ceol
ORGANIZER;CN="Ron McCarty":MAILTO:info@ceolirishpub.com
END:VEVENT
BEGIN:VEVENT
DTSTART;TZID=Asia/Karachi:20250920T160000
DTEND;TZID=Asia/Karachi:20250920T180000
DTSTAMP:20260421T070357
CREATED:20210507T111436Z
LAST-MODIFIED:20210507T111436Z
UID:10051-1758384000-1758391200@www.ceolirishpub.com
SUMMARY:Happy Hour!
DESCRIPTION:$5 Premium Pints\, Well Drinks\, and Wine. $6 Traditional Irish Coffee
URL:https://www.ceolirishpub.com/event/happy-hour-2025-09-20/
LOCATION:Ceol Irish Pub\, 410 California Ave\, Reno\, NV\, 89509\, United States
CATEGORIES:Ceol
ORGANIZER;CN="Ron McCarty":MAILTO:info@ceolirishpub.com
END:VEVENT
BEGIN:VEVENT
DTSTART;TZID=Asia/Karachi:20250923T160000
DTEND;TZID=Asia/Karachi:20250923T180000
DTSTAMP:20260421T070357
CREATED:20210507T111436Z
LAST-MODIFIED:20210507T111436Z
UID:10052-1758643200-1758650400@www.ceolirishpub.com
SUMMARY:Happy Hour!
DESCRIPTION:$5 Premium Pints\, Well Drinks\, and Wine. $6 Traditional Irish Coffee
URL:https://www.ceolirishpub.com/event/happy-hour-2025-09-23/
LOCATION:Ceol Irish Pub\, 410 California Ave\, Reno\, NV\, 89509\, United States
CATEGORIES:Ceol
ORGANIZER;CN="Ron McCarty":MAILTO:info@ceolirishpub.com
END:VEVENT
BEGIN:VEVENT
DTSTART;TZID=Asia/Karachi:20250924T160000
DTEND;TZID=Asia/Karachi:20250924T180000
DTSTAMP:20260421T070357
CREATED:20210507T111436Z
LAST-MODIFIED:20210507T111436Z
UID:10053-1758729600-1758736800@www.ceolirishpub.com
SUMMARY:Happy Hour!
DESCRIPTION:$5 Premium Pints\, Well Drinks\, and Wine. $6 Traditional Irish Coffee
URL:https://www.ceolirishpub.com/event/happy-hour-2025-09-24/
LOCATION:Ceol Irish Pub\, 410 California Ave\, Reno\, NV\, 89509\, United States
CATEGORIES:Ceol
ORGANIZER;CN="Ron McCarty":MAILTO:info@ceolirishpub.com
END:VEVENT
BEGIN:VEVENT
DTSTART;TZID=Asia/Karachi:20250925T160000
DTEND;TZID=Asia/Karachi:20250925T180000
DTSTAMP:20260421T070357
CREATED:20210507T111436Z
LAST-MODIFIED:20210507T111436Z
UID:10054-1758816000-1758823200@www.ceolirishpub.com
SUMMARY:Happy Hour!
DESCRIPTION:$5 Premium Pints\, Well Drinks\, and Wine. $6 Traditional Irish Coffee
URL:https://www.ceolirishpub.com/event/happy-hour-2025-09-25/
LOCATION:Ceol Irish Pub\, 410 California Ave\, Reno\, NV\, 89509\, United States
CATEGORIES:Ceol
ORGANIZER;CN="Ron McCarty":MAILTO:info@ceolirishpub.com
END:VEVENT
BEGIN:VEVENT
DTSTART;TZID=Asia/Karachi:20250926T160000
DTEND;TZID=Asia/Karachi:20250926T180000
DTSTAMP:20260421T070357
CREATED:20210507T111436Z
LAST-MODIFIED:20210507T111436Z
UID:10055-1758902400-1758909600@www.ceolirishpub.com
SUMMARY:Happy Hour!
DESCRIPTION:$5 Premium Pints\, Well Drinks\, and Wine. $6 Traditional Irish Coffee
URL:https://www.ceolirishpub.com/event/happy-hour-2025-09-26/
LOCATION:Ceol Irish Pub\, 410 California Ave\, Reno\, NV\, 89509\, United States
CATEGORIES:Ceol
ORGANIZER;CN="Ron McCarty":MAILTO:info@ceolirishpub.com
END:VEVENT
BEGIN:VEVENT
DTSTART;TZID=Asia/Karachi:20250927T160000
DTEND;TZID=Asia/Karachi:20250927T180000
DTSTAMP:20260421T070357
CREATED:20210507T111436Z
LAST-MODIFIED:20210507T111436Z
UID:10056-1758988800-1758996000@www.ceolirishpub.com
SUMMARY:Happy Hour!
DESCRIPTION:$5 Premium Pints\, Well Drinks\, and Wine. $6 Traditional Irish Coffee
URL:https://www.ceolirishpub.com/event/happy-hour-2025-09-27/
LOCATION:Ceol Irish Pub\, 410 California Ave\, Reno\, NV\, 89509\, United States
CATEGORIES:Ceol
ORGANIZER;CN="Ron McCarty":MAILTO:info@ceolirishpub.com
END:VEVENT
BEGIN:VEVENT
DTSTART;TZID=Asia/Karachi:20250930T160000
DTEND;TZID=Asia/Karachi:20250930T180000
DTSTAMP:20260421T070357
CREATED:20210507T111436Z
LAST-MODIFIED:20210507T111436Z
UID:10057-1759248000-1759255200@www.ceolirishpub.com
SUMMARY:Happy Hour!
DESCRIPTION:$5 Premium Pints\, Well Drinks\, and Wine. $6 Traditional Irish Coffee
URL:https://www.ceolirishpub.com/event/happy-hour-2025-09-30/
LOCATION:Ceol Irish Pub\, 410 California Ave\, Reno\, NV\, 89509\, United States
CATEGORIES:Ceol
ORGANIZER;CN="Ron McCarty":MAILTO:info@ceolirishpub.com
END:VEVENT
END:VCALENDAR