BEGIN:VCALENDAR
VERSION:2.0
PRODID:-//Ceol Irish Pub - ECPv6.15.17//NONSGML v1.0//EN
CALSCALE:GREGORIAN
METHOD:PUBLISH
X-ORIGINAL-URL:https://www.ceolirishpub.com
X-WR-CALDESC:Events for Ceol Irish Pub
REFRESH-INTERVAL;VALUE=DURATION:PT1H
X-Robots-Tag:noindex
X-PUBLISHED-TTL:PT1H
BEGIN:VTIMEZONE
TZID:Asia/Karachi
BEGIN:STANDARD
TZOFFSETFROM:+0500
TZOFFSETTO:+0500
TZNAME:PKT
DTSTART:20250101T000000
END:STANDARD
END:VTIMEZONE
BEGIN:VEVENT
DTSTART;TZID=Asia/Karachi:20260602T190000
DTEND;TZID=Asia/Karachi:20260602T220000
DTSTAMP:20260420T190237
CREATED:20210508T054009Z
LAST-MODIFIED:20210508T054009Z
UID:10317-1780426800-1780437600@www.ceolirishpub.com
SUMMARY:Live Music - Traditional Irish Session
DESCRIPTION:7 PM\, Traditional Irish Session
URL:https://www.ceolirishpub.com/event/live-music-2026-06-02/
LOCATION:Ceol Irish Pub\, 410 California Ave\, Reno\, NV\, 89509\, United States
CATEGORIES:Ceol
ORGANIZER;CN="Ron McCarty":MAILTO:info@ceolirishpub.com
END:VEVENT
BEGIN:VEVENT
DTSTART;VALUE=DATE:20260603
DTEND;VALUE=DATE:20260604
DTSTAMP:20260420T190237
CREATED:20210508T051122Z
LAST-MODIFIED:20210508T051122Z
UID:9977-1780444800-1780531199@www.ceolirishpub.com
SUMMARY:Whiskey Wednesdays
DESCRIPTION:$2 Off All Whiskey\, All Evening.
URL:https://www.ceolirishpub.com/event/whiskey-wednesdays-2026-06-03/
LOCATION:Ceol Irish Pub\, 410 California Ave\, Reno\, NV\, 89509\, United States
CATEGORIES:Ceol
ORGANIZER;CN="Ron McCarty":MAILTO:info@ceolirishpub.com
END:VEVENT
BEGIN:VEVENT
DTSTART;TZID=Asia/Karachi:20260609T190000
DTEND;TZID=Asia/Karachi:20260609T220000
DTSTAMP:20260420T190237
CREATED:20210508T054009Z
LAST-MODIFIED:20210508T054009Z
UID:10318-1781031600-1781042400@www.ceolirishpub.com
SUMMARY:Live Music - Traditional Irish Session
DESCRIPTION:7 PM\, Traditional Irish Session
URL:https://www.ceolirishpub.com/event/live-music-2026-06-09/
LOCATION:Ceol Irish Pub\, 410 California Ave\, Reno\, NV\, 89509\, United States
CATEGORIES:Ceol
ORGANIZER;CN="Ron McCarty":MAILTO:info@ceolirishpub.com
END:VEVENT
BEGIN:VEVENT
DTSTART;VALUE=DATE:20260610
DTEND;VALUE=DATE:20260611
DTSTAMP:20260420T190237
CREATED:20210508T051122Z
LAST-MODIFIED:20210508T051122Z
UID:9978-1781049600-1781135999@www.ceolirishpub.com
SUMMARY:Whiskey Wednesdays
DESCRIPTION:$2 Off All Whiskey\, All Evening.
URL:https://www.ceolirishpub.com/event/whiskey-wednesdays-2026-06-10/
LOCATION:Ceol Irish Pub\, 410 California Ave\, Reno\, NV\, 89509\, United States
CATEGORIES:Ceol
ORGANIZER;CN="Ron McCarty":MAILTO:info@ceolirishpub.com
END:VEVENT
BEGIN:VEVENT
DTSTART;TZID=Asia/Karachi:20260616T190000
DTEND;TZID=Asia/Karachi:20260616T220000
DTSTAMP:20260420T190237
CREATED:20210508T054009Z
LAST-MODIFIED:20210508T054009Z
UID:10319-1781636400-1781647200@www.ceolirishpub.com
SUMMARY:Live Music - Traditional Irish Session
DESCRIPTION:7 PM\, Traditional Irish Session
URL:https://www.ceolirishpub.com/event/live-music-2026-06-16/
LOCATION:Ceol Irish Pub\, 410 California Ave\, Reno\, NV\, 89509\, United States
CATEGORIES:Ceol
ORGANIZER;CN="Ron McCarty":MAILTO:info@ceolirishpub.com
END:VEVENT
BEGIN:VEVENT
DTSTART;VALUE=DATE:20260617
DTEND;VALUE=DATE:20260618
DTSTAMP:20260420T190237
CREATED:20210508T051122Z
LAST-MODIFIED:20210508T051122Z
UID:9979-1781654400-1781740799@www.ceolirishpub.com
SUMMARY:Whiskey Wednesdays
DESCRIPTION:$2 Off All Whiskey\, All Evening.
URL:https://www.ceolirishpub.com/event/whiskey-wednesdays-2026-06-17/
LOCATION:Ceol Irish Pub\, 410 California Ave\, Reno\, NV\, 89509\, United States
CATEGORIES:Ceol
ORGANIZER;CN="Ron McCarty":MAILTO:info@ceolirishpub.com
END:VEVENT
BEGIN:VEVENT
DTSTART;TZID=Asia/Karachi:20260623T190000
DTEND;TZID=Asia/Karachi:20260623T220000
DTSTAMP:20260420T190237
CREATED:20210508T054009Z
LAST-MODIFIED:20210508T054009Z
UID:10320-1782241200-1782252000@www.ceolirishpub.com
SUMMARY:Live Music - Traditional Irish Session
DESCRIPTION:7 PM\, Traditional Irish Session
URL:https://www.ceolirishpub.com/event/live-music-2026-06-23/
LOCATION:Ceol Irish Pub\, 410 California Ave\, Reno\, NV\, 89509\, United States
CATEGORIES:Ceol
ORGANIZER;CN="Ron McCarty":MAILTO:info@ceolirishpub.com
END:VEVENT
BEGIN:VEVENT
DTSTART;VALUE=DATE:20260624
DTEND;VALUE=DATE:20260625
DTSTAMP:20260420T190237
CREATED:20210508T051122Z
LAST-MODIFIED:20210508T051122Z
UID:9980-1782259200-1782345599@www.ceolirishpub.com
SUMMARY:Whiskey Wednesdays
DESCRIPTION:$2 Off All Whiskey\, All Evening.
URL:https://www.ceolirishpub.com/event/whiskey-wednesdays-2026-06-24/
LOCATION:Ceol Irish Pub\, 410 California Ave\, Reno\, NV\, 89509\, United States
CATEGORIES:Ceol
ORGANIZER;CN="Ron McCarty":MAILTO:info@ceolirishpub.com
END:VEVENT
BEGIN:VEVENT
DTSTART;TZID=Asia/Karachi:20260630T190000
DTEND;TZID=Asia/Karachi:20260630T220000
DTSTAMP:20260420T190237
CREATED:20210508T054009Z
LAST-MODIFIED:20210508T054009Z
UID:10321-1782846000-1782856800@www.ceolirishpub.com
SUMMARY:Live Music - Traditional Irish Session
DESCRIPTION:7 PM\, Traditional Irish Session
URL:https://www.ceolirishpub.com/event/live-music-2026-06-30/
LOCATION:Ceol Irish Pub\, 410 California Ave\, Reno\, NV\, 89509\, United States
CATEGORIES:Ceol
ORGANIZER;CN="Ron McCarty":MAILTO:info@ceolirishpub.com
END:VEVENT
END:VCALENDAR