BEGIN:VCALENDAR
VERSION:2.0
PRODID:-//Ceol Irish Pub - ECPv6.15.17//NONSGML v1.0//EN
CALSCALE:GREGORIAN
METHOD:PUBLISH
X-ORIGINAL-URL:https://www.ceolirishpub.com
X-WR-CALDESC:Events for Ceol Irish Pub
REFRESH-INTERVAL;VALUE=DURATION:PT1H
X-Robots-Tag:noindex
X-PUBLISHED-TTL:PT1H
BEGIN:VTIMEZONE
TZID:America/Los_Angeles
BEGIN:DAYLIGHT
TZOFFSETFROM:-0800
TZOFFSETTO:-0700
TZNAME:PDT
DTSTART:20240310T100000
END:DAYLIGHT
BEGIN:STANDARD
TZOFFSETFROM:-0700
TZOFFSETTO:-0800
TZNAME:PST
DTSTART:20241103T090000
END:STANDARD
BEGIN:DAYLIGHT
TZOFFSETFROM:-0800
TZOFFSETTO:-0700
TZNAME:PDT
DTSTART:20250309T100000
END:DAYLIGHT
BEGIN:STANDARD
TZOFFSETFROM:-0700
TZOFFSETTO:-0800
TZNAME:PST
DTSTART:20251102T090000
END:STANDARD
BEGIN:DAYLIGHT
TZOFFSETFROM:-0800
TZOFFSETTO:-0700
TZNAME:PDT
DTSTART:20260308T100000
END:DAYLIGHT
BEGIN:STANDARD
TZOFFSETFROM:-0700
TZOFFSETTO:-0800
TZNAME:PST
DTSTART:20261101T090000
END:STANDARD
END:VTIMEZONE
BEGIN:VEVENT
DTSTART;TZID=America/Los_Angeles:20251227T210000
DTEND;TZID=America/Los_Angeles:20251227T230000
DTSTAMP:20260422T030355
CREATED:20250908T190932Z
LAST-MODIFIED:20251221T220256Z
UID:10356-1766869200-1766876400@www.ceolirishpub.com
SUMMARY:Saturday Night Live Music - Liam Kyle Cahill & Casey Christensen
DESCRIPTION:Singer-Songwriters Liam Kyle Cahill & Casey Christensen blend soulful vocals\, heartfelt storytelling\, and rich harmonies into an intimate folk-rock sound that connects deeply with their audience. You are in for a treat! \nSaturday Night Live Music 8pm – 10pm
URL:https://www.ceolirishpub.com/event/saturday-night-live-music-2025-10-25/
LOCATION:Ceol Irish Pub\, 410 California Ave\, Reno\, NV\, 89509\, United States
CATEGORIES:Ceol
ORGANIZER;CN="Ron McCarty":MAILTO:info@ceolirishpub.com
END:VEVENT
END:VCALENDAR