BEGIN:VCALENDAR
VERSION:2.0
PRODID:-//Ceol Irish Pub - ECPv6.15.17//NONSGML v1.0//EN
CALSCALE:GREGORIAN
METHOD:PUBLISH
X-ORIGINAL-URL:https://www.ceolirishpub.com
X-WR-CALDESC:Events for Ceol Irish Pub
REFRESH-INTERVAL;VALUE=DURATION:PT1H
X-Robots-Tag:noindex
X-PUBLISHED-TTL:PT1H
BEGIN:VTIMEZONE
TZID:Asia/Karachi
BEGIN:STANDARD
TZOFFSETFROM:+0500
TZOFFSETTO:+0500
TZNAME:PKT
DTSTART:20240101T000000
END:STANDARD
END:VTIMEZONE
BEGIN:VTIMEZONE
TZID:America/Los_Angeles
BEGIN:DAYLIGHT
TZOFFSETFROM:-0800
TZOFFSETTO:-0700
TZNAME:PDT
DTSTART:20240310T100000
END:DAYLIGHT
BEGIN:STANDARD
TZOFFSETFROM:-0700
TZOFFSETTO:-0800
TZNAME:PST
DTSTART:20241103T090000
END:STANDARD
BEGIN:DAYLIGHT
TZOFFSETFROM:-0800
TZOFFSETTO:-0700
TZNAME:PDT
DTSTART:20250309T100000
END:DAYLIGHT
BEGIN:STANDARD
TZOFFSETFROM:-0700
TZOFFSETTO:-0800
TZNAME:PST
DTSTART:20251102T090000
END:STANDARD
BEGIN:DAYLIGHT
TZOFFSETFROM:-0800
TZOFFSETTO:-0700
TZNAME:PDT
DTSTART:20260308T100000
END:DAYLIGHT
BEGIN:STANDARD
TZOFFSETFROM:-0700
TZOFFSETTO:-0800
TZNAME:PST
DTSTART:20261101T090000
END:STANDARD
END:VTIMEZONE
BEGIN:VEVENT
DTSTART;TZID=Asia/Karachi:20250911T160000
DTEND;TZID=Asia/Karachi:20250911T180000
DTSTAMP:20260424T070721
CREATED:20210507T111436Z
LAST-MODIFIED:20210507T111436Z
UID:10044-1757606400-1757613600@www.ceolirishpub.com
SUMMARY:Happy Hour!
DESCRIPTION:$5 Premium Pints\, Well Drinks\, and Wine. $6 Traditional Irish Coffee
URL:https://www.ceolirishpub.com/event/happy-hour-2025-09-11/
LOCATION:Ceol Irish Pub\, 410 California Ave\, Reno\, NV\, 89509\, United States
CATEGORIES:Ceol
ORGANIZER;CN="Ron McCarty":MAILTO:info@ceolirishpub.com
END:VEVENT
BEGIN:VEVENT
DTSTART;TZID=America/Los_Angeles:20250911T180000
DTEND;TZID=America/Los_Angeles:20250911T200000
DTSTAMP:20260424T070721
CREATED:20250908T193011Z
LAST-MODIFIED:20250908T193011Z
UID:10364-1757613600-1757620800@www.ceolirishpub.com
SUMMARY:Thursday Bluegrass Jam
DESCRIPTION:Live Bluegrass 6pm-8pm
URL:https://www.ceolirishpub.com/event/thursday-bluegrass-jam/
LOCATION:Ceol Irish Pub\, 410 California Ave\, Reno\, NV\, 89509\, United States
ORGANIZER;CN="Ron McCarty":MAILTO:info@ceolirishpub.com
END:VEVENT
END:VCALENDAR